BEGIN:VCALENDAR
VERSION:2.0
PRODID:-//Ripple Impact NW - ECPv6.15.20//NONSGML v1.0//EN
CALSCALE:GREGORIAN
METHOD:PUBLISH
X-WR-CALNAME:Ripple Impact NW
X-ORIGINAL-URL:https://rippleimpactnw.org
X-WR-CALDESC:Events for Ripple Impact NW
REFRESH-INTERVAL;VALUE=DURATION:PT1H
X-Robots-Tag:noindex
X-PUBLISHED-TTL:PT1H
BEGIN:VTIMEZONE
TZID:America/Los_Angeles
BEGIN:DAYLIGHT
TZOFFSETFROM:-0800
TZOFFSETTO:-0700
TZNAME:PDT
DTSTART:20230312T100000
END:DAYLIGHT
BEGIN:STANDARD
TZOFFSETFROM:-0700
TZOFFSETTO:-0800
TZNAME:PST
DTSTART:20231105T090000
END:STANDARD
BEGIN:DAYLIGHT
TZOFFSETFROM:-0800
TZOFFSETTO:-0700
TZNAME:PDT
DTSTART:20240310T100000
END:DAYLIGHT
BEGIN:STANDARD
TZOFFSETFROM:-0700
TZOFFSETTO:-0800
TZNAME:PST
DTSTART:20241103T090000
END:STANDARD
BEGIN:DAYLIGHT
TZOFFSETFROM:-0800
TZOFFSETTO:-0700
TZNAME:PDT
DTSTART:20250309T100000
END:DAYLIGHT
BEGIN:STANDARD
TZOFFSETFROM:-0700
TZOFFSETTO:-0800
TZNAME:PST
DTSTART:20251102T090000
END:STANDARD
BEGIN:DAYLIGHT
TZOFFSETFROM:-0800
TZOFFSETTO:-0700
TZNAME:PDT
DTSTART:20260308T100000
END:DAYLIGHT
BEGIN:STANDARD
TZOFFSETFROM:-0700
TZOFFSETTO:-0800
TZNAME:PST
DTSTART:20261101T090000
END:STANDARD
END:VTIMEZONE
BEGIN:VEVENT
DTSTART;TZID=America/Los_Angeles:20250715T163000
DTEND;TZID=America/Los_Angeles:20250715T180000
DTSTAMP:20260419T223203
CREATED:20250617T170559Z
LAST-MODIFIED:20250623T214410Z
UID:10000048-1752597000-1752602400@rippleimpactnw.org
SUMMARY:Volunteer Match-Up July 15\, 2025
DESCRIPTION:Make a Difference: Meet Your Perfect Nonprofit Match!\nJoin the Greater Vancouver Chamber & Ripple Impact NW\, on Tuesday\, July 15th\, from 4:30 PM – 6 PM\, for a unique opportunity to discover the perfect nonprofit match for you! \nDesigned specifically for attendees to engage with local nonprofits in a “speed mingling” environment\, this casual yet informative gathering will allow you to discover new and interesting organizations. \nHow it Works\nThis “speed networking” style event gives attendees the opportunity to sit down and have conversation with six nonprofits of their choosing. During each round of conversation\, nonprofits will have the chance to share their mission and the volunteer opportunities offered. \nThis is a fantastic way to get to know several different organizations in SW Washington and learn about new unique ways you can support them. \n  \nClick HERE to Register.
URL:https://rippleimpactnw.org/event/volunteer-match-up-july-15-2025/
LOCATION:Ripple Space\, 275 West 3rd St\, Suite 400\, Vancouver
CATEGORIES:Volunteer Match-ups
ATTACH;FMTTYPE=image/png:https://rippleimpactnw.org/wp-content/uploads/2025/06/Volunteer-Matchup-July-15-2025.png
END:VEVENT
BEGIN:VEVENT
DTSTART;TZID=America/Los_Angeles:20241001T163000
DTEND;TZID=America/Los_Angeles:20241001T183000
DTSTAMP:20260419T223203
CREATED:20240917T175857Z
LAST-MODIFIED:20240917T175935Z
UID:10000046-1727800200-1727807400@rippleimpactnw.org
SUMMARY:NONPROFIT + VOLUNTEER MATCH UP
DESCRIPTION:A Speed Networking Event to Learn about Volunteer Opportunities\nRipple Impact NW and the Greater Vancouver Chamber have partnered to bring together two vital components in our community: nonprofits and volunteers! \n\n\n\n\n\n\n\nHow It Works:\nThis “speed networking” style event will allow attendees to travel the room and spend a few minutes with 10 different nonprofits. During an allotted time\, nonprofits will have the opportunity to tell you about their mission\, and the volunteer opportunities their organization offers. \nThis is a fantastic way to get to know the incredible nonprofit organizations in SW Washington\, and learn about new unique ways you can support them! \n\nClick Here to RSVP Now & Save Your Spot!\nSpace is limited. Please understand we will count your RSVP as a confirmed attendee and will expect to see you there.
URL:https://rippleimpactnw.org/event/6243/
LOCATION:YWCA\, 3609 Main Street\, Vancouver\, WA\, 98663\, United States
CATEGORIES:Volunteer Match-ups
END:VEVENT
BEGIN:VEVENT
DTSTART;TZID=America/Los_Angeles:20240423T160000
DTEND;TZID=America/Los_Angeles:20240423T183000
DTSTAMP:20260419T223203
CREATED:20240416T042451Z
LAST-MODIFIED:20240621T093849Z
UID:10000036-1713888000-1713897000@rippleimpactnw.org
SUMMARY:Volunteer Match-up Event
DESCRIPTION:A Speed Networking Event to Learn About Volunteer Opportunities\nRipple Impact NW and the Greater Vancouver Chamber have partnered to bring together two vital components in our community: nonprofits and volunteers. During this speed networking event\, potential volunteers (like you!) will meet with and learn about 15 different nonprofits in our community – including the various ways to volunteer. If you are an individual interested in giving your time and talents to our community\, this event is for you!\nDoors open at 4:00 p.m.\nSpeed Networking Activity from 4:15 p.m. – 6:15 p.m. Refreshments provided\nVOLUNTEERS –  CLICK HERE TO REGISTER
URL:https://rippleimpactnw.org/event/volunteer-match-up-april-23-2024/
LOCATION:Ripple Space\, 275 West 3rd St\, Suite 400\, Vancouver
CATEGORIES:Volunteer Match-ups
END:VEVENT
END:VCALENDAR