BEGIN:VCALENDAR
VERSION:2.0
PRODID:-//Ripple Impact NW - ECPv6.15.20//NONSGML v1.0//EN
CALSCALE:GREGORIAN
METHOD:PUBLISH
X-WR-CALNAME:Ripple Impact NW
X-ORIGINAL-URL:https://rippleimpactnw.org
X-WR-CALDESC:Events for Ripple Impact NW
REFRESH-INTERVAL;VALUE=DURATION:PT1H
X-Robots-Tag:noindex
X-PUBLISHED-TTL:PT1H
BEGIN:VTIMEZONE
TZID:America/Los_Angeles
BEGIN:DAYLIGHT
TZOFFSETFROM:-0800
TZOFFSETTO:-0700
TZNAME:PDT
DTSTART:20230312T100000
END:DAYLIGHT
BEGIN:STANDARD
TZOFFSETFROM:-0700
TZOFFSETTO:-0800
TZNAME:PST
DTSTART:20231105T090000
END:STANDARD
BEGIN:DAYLIGHT
TZOFFSETFROM:-0800
TZOFFSETTO:-0700
TZNAME:PDT
DTSTART:20240310T100000
END:DAYLIGHT
BEGIN:STANDARD
TZOFFSETFROM:-0700
TZOFFSETTO:-0800
TZNAME:PST
DTSTART:20241103T090000
END:STANDARD
BEGIN:DAYLIGHT
TZOFFSETFROM:-0800
TZOFFSETTO:-0700
TZNAME:PDT
DTSTART:20250309T100000
END:DAYLIGHT
BEGIN:STANDARD
TZOFFSETFROM:-0700
TZOFFSETTO:-0800
TZNAME:PST
DTSTART:20251102T090000
END:STANDARD
END:VTIMEZONE
BEGIN:VEVENT
DTSTART;TZID=America/Los_Angeles:20240320T093000
DTEND;TZID=America/Los_Angeles:20240320T093000
DTSTAMP:20260421T082323
CREATED:20240313T020843Z
LAST-MODIFIED:20240313T022224Z
UID:10000032-1710927000-1710927000@rippleimpactnw.org
SUMMARY:Ripple Impact Information Zoom Session
DESCRIPTION:Ripple Impact NW is excited to share our 2024 programming with you.\nWhat we will cover:\nQuick overview of who we are and what we do. Including our philanthropic education programs.\nFor nonprofits –  our special focus these sessions!\nGiving Pop-Ups\nA new way to meet with interested community members in an informal\, small group setting.  A variety of organizations will meet each time.  Each group participating will receive a grant of $1\,000 or more.\nGiving Circles\nEach of the following topics are expected to provide a grant of $5\,000 to $15\,000 to one or more nonprofits selected by the donors to the topic.\n     — Mental/ Behavorial Health\n     — The Arts\nVolunteer Match-Up done in partnership with Greater Vancouver Chamber of Commerce.\nOur funding programs are specific to 501(c)(3) nonprofits serving Clark County residents.\nYes\, we will consider applications from those groups operating with a written fiscal sponsorship agreement.\nPLEASE CLICK HERE TO REGISTER\nThe Confirmation Email you receive after registering will have a ZOOM Link for:\nWednesday\, March 20 | 9:30 – 10:15 a.m.\nWe are not taping the session – but will send all registrants any slides we use\, and a list of our 2024 programs. \nAdditional Nonprofit Information Zoom sessions will be scheduled as needed.\nThank you!!\nRipple Impact NW Team\nRipple@RippleImpactNW.org
URL:https://rippleimpactnw.org/event/ripple-impact-information-zoom-session/
LOCATION:ON ZOOM
END:VEVENT
END:VCALENDAR